BEGIN:VCALENDAR
VERSION:2.0
PRODID:-//hacksw/handcal//NONSGML v1.0//EN
BEGIN:VEVENT
DTSTAMP:20260707T000000Z
DTSTART:20260707T000000Z
DTEND:20260707T020000Z

SUMMARY:Father John Misty
DESCRIPTION:After a decade being born, Josh Tillman is finally busy dying.Mahashmashana is the sixth album by Father John Misty.It was produced by Josh Tillman and Drew Erickson.It was engineered and additionally produced by Michael Harris.It was arranged by Drew Erickson.It was performed by Josh Tillman, Drew Erickson, Jonathan Wilson, Dan Bailey, Eli Thomson, David Vandervelde, Chris Dixie Darley, Jon Titterington, and Kyle Flynn.It was executive produced by Jonathan Wilson.It was recorded and mixed at Five Star and East/West, United Studios, and Drew’s House.Mahā ś maś ā na (महामशान)— great cremation ground, all things going thither.MMXXIV Sub Pop Records
END:VEVENT
END:VCALENDAR