BEGIN:VCALENDAR
VERSION:2.0
PRODID:-//hacksw/handcal//NONSGML v1.0//EN
BEGIN:VEVENT
DTSTAMP:20260503T000000Z
DTSTART:20260503T000000Z
DTEND:20260503T020000Z

SUMMARY:U2 Desire 
DESCRIPTION:
END:VEVENT
END:VCALENDAR